BEGIN:VCALENDAR
VERSION:2.0
PRODID:-//Leopold Guntrum - ECPv6.15.14//NONSGML v1.0//EN
CALSCALE:GREGORIAN
METHOD:PUBLISH
X-ORIGINAL-URL:https://leopoldguntrum.de
X-WR-CALDESC:Veranstaltungen für Leopold Guntrum
REFRESH-INTERVAL;VALUE=DURATION:PT1H
X-Robots-Tag:noindex
X-PUBLISHED-TTL:PT1H
BEGIN:VTIMEZONE
TZID:UTC
BEGIN:STANDARD
TZOFFSETFROM:+0000
TZOFFSETTO:+0000
TZNAME:UTC
DTSTART:20250101T000000
END:STANDARD
END:VTIMEZONE
BEGIN:VEVENT
DTSTART;TZID=UTC:20260301T110000
DTEND;TZID=UTC:20260301T140000
DTSTAMP:20260419T143938
CREATED:20260217T105835Z
LAST-MODIFIED:20260217T105835Z
UID:867-1772362800-1772373600@leopoldguntrum.de
SUMMARY:Straßenmusik am verkaufsoffenen Sonntag - Alzey
DESCRIPTION:Zum verkaufsoffenen Sonntag zum Frühlingsbeginn am 01. März 2026 tritt Leopold vormittags in der Alzeyer Innenstadt auf\, und versüßt den Einkäufern\, und vielleicht auch ihnen\, den Einkauf mit musikalischer Untermalung.
URL:https://leopoldguntrum.de/event/strassenmusik-am-verkaufsoffenen-sonntag-alzey/
END:VEVENT
END:VCALENDAR